BEGIN:VCALENDAR
VERSION:2.0
PRODID:-//Heilig Hart Grimbergen vzw - ECPv6.14.2//NONSGML v1.0//EN
CALSCALE:GREGORIAN
METHOD:PUBLISH
X-WR-CALNAME:Heilig Hart Grimbergen vzw
X-ORIGINAL-URL:https://www.hhg.be
X-WR-CALDESC:Events voor Heilig Hart Grimbergen vzw
REFRESH-INTERVAL;VALUE=DURATION:PT1H
X-Robots-Tag:noindex
X-PUBLISHED-TTL:PT1H
BEGIN:VTIMEZONE
TZID:Europe/Brussels
BEGIN:DAYLIGHT
TZOFFSETFROM:+0100
TZOFFSETTO:+0200
TZNAME:CEST
DTSTART:20250330T010000
END:DAYLIGHT
BEGIN:STANDARD
TZOFFSETFROM:+0200
TZOFFSETTO:+0100
TZNAME:CET
DTSTART:20251026T010000
END:STANDARD
BEGIN:DAYLIGHT
TZOFFSETFROM:+0100
TZOFFSETTO:+0200
TZNAME:CEST
DTSTART:20260329T010000
END:DAYLIGHT
BEGIN:STANDARD
TZOFFSETFROM:+0200
TZOFFSETTO:+0100
TZNAME:CET
DTSTART:20261025T010000
END:STANDARD
END:VTIMEZONE
BEGIN:VEVENT
DTSTART;TZID=Europe/Brussels:20260520T190000
DTEND;TZID=Europe/Brussels:20260520T203000
DTSTAMP:20260420T031837
CREATED:20260401T120058Z
LAST-MODIFIED:20260401T120058Z
UID:2217-1779303600-1779309000@www.hhg.be
SUMMARY:Jouw rechten als patiënt\, weet waar je staat
DESCRIPTION:Jouw rechten als patiënt. Weet waar je staat \nVroeg of laat word je patiënt. Maar weet je ook welke rechten je hebt? Tijdens deze infosessie krijg je heldere uitleg over wat jouw rechten betekenen in de praktijk. \nJe ontdekt waar je recht op hebt. Je leert hoe je je rechten kan laten gelden. En je krijgt inzicht in wat er veranderde in de wetgeving. \n Woensdag 20 mei 2026\n19 tot 20.30 uur\nHealth Hub Grimbergen \n 5 euro per persoon\nGratis voor medewerkers van WZC Heilig Hart Grimbergen \n In samenwerking met CM Gezonde Buurt. De Health Hub zorgt voor de accommodatie. \n Schrijf je in via www.hhg.be \n Zorg goed voor jezelf. Weten waar je staat maakt het verschil. \n#healthhubgrimbergen #gezondebuurt #patiëntenrechten #gezondheid #zorg #welzijn #grimbergen #samensterk
URL:http://www.hhg.be/health-hub-grimbergen-event/jouw-rechten-als-patient-weet-waar-je-staat/
LOCATION:Health Hub Grimbergen\, Veldkantstraat 30\, Grimbergen\, Vlaams-Brabant\, 1850\, Belgium
ORGANIZER;CN="Heilig Hart Grimbergen":MAILTO:INFO@HHG.BE
END:VEVENT
BEGIN:VEVENT
DTSTART;TZID=Europe/Brussels:20260518T190000
DTEND;TZID=Europe/Brussels:20260518T203000
DTSTAMP:20260420T031837
CREATED:20260401T115635Z
LAST-MODIFIED:20260413T132451Z
UID:2205-1779130800-1779136200@www.hhg.be
SUMMARY:Workshop etiketten lezen
DESCRIPTION:Wil jij gezondere keuzes maken in de supermarkt\, maar zie je soms door de etiketten het bos niet meer?  \nOp 18 mei geef ik een inspirerende presentatie waarin je leert hoe je voedingsetiketten écht begrijpt en bewustere keuzes maakt voor jouw gezondheid. Geen ingewikkelde theorie\, maar praktische tips die je meteen kan toepassen tijdens je volgende winkelbezoek. \nLaat je verrassen door wat er écht in je voeding zit en ontdek hoe kleine veranderingen een groot verschil kunnen maken! \nKom langs en zet de eerste stap naar een gezondere levensstijl!
URL:http://www.hhg.be/health-hub-grimbergen-event/workshop-etiketten-lezen/
LOCATION:Health Hub Grimbergen\, Veldkantstraat 30\, Grimbergen\, Vlaams-Brabant\, 1850\, Belgium
ORGANIZER;CN="Heilig Hart Grimbergen":MAILTO:INFO@HHG.BE
END:VEVENT
BEGIN:VEVENT
DTSTART;TZID=Europe/Brussels:20260504T180000
DTEND;TZID=Europe/Brussels:20260504T200000
DTSTAMP:20260420T031837
CREATED:20251212T154439Z
LAST-MODIFIED:20251212T154439Z
UID:2120-1777917600-1777924800@www.hhg.be
SUMMARY:Digidokter
DESCRIPTION:
URL:http://www.hhg.be/health-hub-grimbergen-event/digidokter-3/
LOCATION:Health Hub Grimbergen\, Veldkantstraat 30\, Grimbergen\, Vlaams-Brabant\, 1850\, Belgium
END:VEVENT
BEGIN:VEVENT
DTSTART;TZID=Europe/Brussels:20260423T190000
DTEND;TZID=Europe/Brussels:20260423T203000
DTSTAMP:20260420T031837
CREATED:20260220T102626Z
LAST-MODIFIED:20260220T102626Z
UID:2158-1776970800-1776976200@www.hhg.be
SUMMARY:Relaxatie
DESCRIPTION:Verlang je naar meer rust? Wil je aan de slag rond je spanningsklachten? De basisoefeningen in deze sessie bieden je een houvast bij stress. De oefeningen zijn voor thuis\, op het werk of zelfs op de trein. \nVia ademhalings-\, concentratie- en ontspanningsoefeningen krijg je jezelf en je ademhaling weer onder controle. Zo kom je tot meer rust in je hoofd en in je lichaam. \n\nWanneer: donderdag 23/04/2026 om 19.00 uur\nInschrijven via www.hhg.be / Health Hub Grimbergen Events of via info@hhg.be\nDuur: 90 minuten\nDoelgroep: volwassenen\, ouderen\, studenten\, kwetsbare personen\nKostprijs: 15 euro /persoon -gratis voor medewerkers WZC Heilig Hart Grimbergen- betaling ter plaatse\n\nEen samenwerking tussen Christelijke Mutualiteit die de opleiding verzorgen en de Health Hub Grimbergen die zorgen voor de accommodatie.
URL:http://www.hhg.be/health-hub-grimbergen-event/relaxatie/
LOCATION:Health Hub Grimbergen\, Veldkantstraat 30\, Grimbergen\, Vlaams-Brabant\, 1850\, Belgium
END:VEVENT
BEGIN:VEVENT
DTSTART;TZID=Europe/Brussels:20260324T150000
DTEND;TZID=Europe/Brussels:20260324T170000
DTSTAMP:20260420T031837
CREATED:20251223T144402Z
LAST-MODIFIED:20251223T144402Z
UID:2126-1774364400-1774371600@www.hhg.be
SUMMARY:De kracht van aanraken en bewegen bij dementie
DESCRIPTION:Meer info: zorg_de_kracht_van_aanraken_bij_dementie_grimbergen_flyer_20260324 \n  \ninschrijving via de link: https://www.cm.be/selfservice/agenda#/activity/19872/detail
URL:http://www.hhg.be/health-hub-grimbergen-event/de-kracht-van-aanraken-en-bewegen-bij-dementie/
LOCATION:Health Hub Grimbergen\, Veldkantstraat 30\, Grimbergen\, Vlaams-Brabant\, 1850\, Belgium
END:VEVENT
BEGIN:VEVENT
DTSTART;TZID=Europe/Brussels:20260309T180000
DTEND;TZID=Europe/Brussels:20260309T200000
DTSTAMP:20260420T031837
CREATED:20251212T154353Z
LAST-MODIFIED:20251212T154353Z
UID:2117-1773079200-1773086400@www.hhg.be
SUMMARY:Digidokter
DESCRIPTION:
URL:http://www.hhg.be/health-hub-grimbergen-event/digidokter-2/
LOCATION:Health Hub Grimbergen\, Veldkantstraat 30\, Grimbergen\, Vlaams-Brabant\, 1850\, Belgium
END:VEVENT
BEGIN:VEVENT
DTSTART;TZID=Europe/Brussels:20260224T180000
DTEND;TZID=Europe/Brussels:20260224T200000
DTSTAMP:20260420T031837
CREATED:20260109T130413Z
LAST-MODIFIED:20260109T130413Z
UID:2144-1771956000-1771963200@www.hhg.be
SUMMARY:WeightWatchers
DESCRIPTION:  \nWebsite weightwatchers: https://www.weightwatchers.com/be/nl/ \n60% korting op een jaarabonnement: https://www.weightwatchers.com/be/nl/speciale-aanbieding-coach?utm_source=staff&utm_medium=qr_code&utm_campaign=incentive_program&ftm=3241198 \nVoor meer info mail: sabrina.wwcoach@gmail.com \n 
URL:http://www.hhg.be/health-hub-grimbergen-event/weightwatchers/
LOCATION:Health Hub Grimbergen\, Veldkantstraat 30\, Grimbergen\, Vlaams-Brabant\, 1850\, Belgium
END:VEVENT
BEGIN:VEVENT
DTSTART;TZID=Europe/Brussels:20260217T180000
DTEND;TZID=Europe/Brussels:20260217T200000
DTSTAMP:20260420T031837
CREATED:20260109T130346Z
LAST-MODIFIED:20260109T130346Z
UID:2142-1771351200-1771358400@www.hhg.be
SUMMARY:WeightWatchers
DESCRIPTION:  \nWebsite weightwatchers: https://www.weightwatchers.com/be/nl/ \n60% korting op een jaarabonnement: https://www.weightwatchers.com/be/nl/speciale-aanbieding-coach?utm_source=staff&utm_medium=qr_code&utm_campaign=incentive_program&ftm=3241198 \nVoor meer info mail: sabrina.wwcoach@gmail.com \n 
URL:http://www.hhg.be/health-hub-grimbergen-event/weightwatchers/
LOCATION:Health Hub Grimbergen\, Veldkantstraat 30\, Grimbergen\, Vlaams-Brabant\, 1850\, Belgium
END:VEVENT
BEGIN:VEVENT
DTSTART;TZID=Europe/Brussels:20260210T180000
DTEND;TZID=Europe/Brussels:20260210T200000
DTSTAMP:20260420T031837
CREATED:20260109T130321Z
LAST-MODIFIED:20260109T130321Z
UID:2140-1770746400-1770753600@www.hhg.be
SUMMARY:WeightWatchers
DESCRIPTION:  \nWebsite weightwatchers: https://www.weightwatchers.com/be/nl/ \n60% korting op een jaarabonnement: https://www.weightwatchers.com/be/nl/speciale-aanbieding-coach?utm_source=staff&utm_medium=qr_code&utm_campaign=incentive_program&ftm=3241198 \nVoor meer info mail: sabrina.wwcoach@gmail.com \n 
URL:http://www.hhg.be/health-hub-grimbergen-event/weightwatchers/
LOCATION:Health Hub Grimbergen\, Veldkantstraat 30\, Grimbergen\, Vlaams-Brabant\, 1850\, Belgium
END:VEVENT
BEGIN:VEVENT
DTSTART;TZID=Europe/Brussels:20260209T180000
DTEND;TZID=Europe/Brussels:20260209T200000
DTSTAMP:20260420T031837
CREATED:20251212T154307Z
LAST-MODIFIED:20251212T154307Z
UID:2112-1770660000-1770667200@www.hhg.be
SUMMARY:Digidokter
DESCRIPTION:
URL:http://www.hhg.be/health-hub-grimbergen-event/digidokter/
LOCATION:Health Hub Grimbergen\, Veldkantstraat 30\, Grimbergen\, Vlaams-Brabant\, 1850\, Belgium
END:VEVENT
BEGIN:VEVENT
DTSTART;TZID=Europe/Brussels:20260203T180000
DTEND;TZID=Europe/Brussels:20260203T200000
DTSTAMP:20260420T031837
CREATED:20260109T130238Z
LAST-MODIFIED:20260109T130238Z
UID:2136-1770141600-1770148800@www.hhg.be
SUMMARY:WeightWatchers
DESCRIPTION:  \nWebsite weightwatchers: https://www.weightwatchers.com/be/nl/ \n60% korting op een jaarabonnement: https://www.weightwatchers.com/be/nl/speciale-aanbieding-coach?utm_source=staff&utm_medium=qr_code&utm_campaign=incentive_program&ftm=3241198 \nVoor meer info mail: sabrina.wwcoach@gmail.com \n 
URL:http://www.hhg.be/health-hub-grimbergen-event/weightwatchers/
LOCATION:Health Hub Grimbergen\, Veldkantstraat 30\, Grimbergen\, Vlaams-Brabant\, 1850\, Belgium
END:VEVENT
BEGIN:VEVENT
DTSTART;TZID=Europe/Brussels:20260127T180000
DTEND;TZID=Europe/Brussels:20260127T200000
DTSTAMP:20260420T031837
CREATED:20260109T130221Z
LAST-MODIFIED:20260109T130221Z
UID:2137-1769536800-1769544000@www.hhg.be
SUMMARY:WeightWatchers
DESCRIPTION:  \nWebsite weightwatchers: https://www.weightwatchers.com/be/nl/ \n60% korting op een jaarabonnement: https://www.weightwatchers.com/be/nl/speciale-aanbieding-coach?utm_source=staff&utm_medium=qr_code&utm_campaign=incentive_program&ftm=3241198 \nVoor meer info mail: sabrina.wwcoach@gmail.com \n 
URL:http://www.hhg.be/health-hub-grimbergen-event/weightwatchers/
LOCATION:Health Hub Grimbergen\, Veldkantstraat 30\, Grimbergen\, Vlaams-Brabant\, 1850\, Belgium
END:VEVENT
BEGIN:VEVENT
DTSTART;TZID=Europe/Brussels:20260120T180000
DTEND;TZID=Europe/Brussels:20260120T200000
DTSTAMP:20260420T031837
CREATED:20260109T130124Z
LAST-MODIFIED:20260109T130124Z
UID:2134-1768932000-1768939200@www.hhg.be
SUMMARY:WeightWatchers
DESCRIPTION:  \nWebsite weightwatchers: https://www.weightwatchers.com/be/nl/ \n60% korting op een jaarabonnement: https://www.weightwatchers.com/be/nl/speciale-aanbieding-coach?utm_source=staff&utm_medium=qr_code&utm_campaign=incentive_program&ftm=3241198 \nVoor meer info mail: sabrina.wwcoach@gmail.com \n 
URL:http://www.hhg.be/health-hub-grimbergen-event/weightwatchers/
LOCATION:Health Hub Grimbergen\, Veldkantstraat 30\, Grimbergen\, Vlaams-Brabant\, 1850\, Belgium
END:VEVENT
BEGIN:VEVENT
DTSTART;TZID=Europe/Brussels:20260113T180000
DTEND;TZID=Europe/Brussels:20260113T200000
DTSTAMP:20260420T031837
CREATED:20260109T130039Z
LAST-MODIFIED:20260109T130039Z
UID:2132-1768327200-1768334400@www.hhg.be
SUMMARY:WeightWatchers
DESCRIPTION:  \nWebsite weightwatchers: https://www.weightwatchers.com/be/nl/ \n60% korting op een jaarabonnement: https://www.weightwatchers.com/be/nl/speciale-aanbieding-coach?utm_source=staff&utm_medium=qr_code&utm_campaign=incentive_program&ftm=3241198 \nVoor meer info mail: sabrina.wwcoach@gmail.com \n 
URL:http://www.hhg.be/health-hub-grimbergen-event/weightwatchers/
LOCATION:Health Hub Grimbergen\, Veldkantstraat 30\, Grimbergen\, Vlaams-Brabant\, 1850\, Belgium
END:VEVENT
BEGIN:VEVENT
DTSTART;TZID=Europe/Brussels:20260106T180000
DTEND;TZID=Europe/Brussels:20260106T200000
DTSTAMP:20260420T031837
CREATED:20250916T085614Z
LAST-MODIFIED:20250916T085705Z
UID:2026-1767722400-1767729600@www.hhg.be
SUMMARY:WeightWatchers
DESCRIPTION:  \nWebsite weightwatchers: https://www.weightwatchers.com/be/nl/ \n60% korting op een jaarabonnement: https://www.weightwatchers.com/be/nl/speciale-aanbieding-coach?utm_source=staff&utm_medium=qr_code&utm_campaign=incentive_program&ftm=3241198 \nVoor meer info mail: sabrina.wwcoach@gmail.com \n 
URL:http://www.hhg.be/health-hub-grimbergen-event/weightwatchers/
LOCATION:Health Hub Grimbergen\, Veldkantstraat 30\, Grimbergen\, Vlaams-Brabant\, 1850\, Belgium
END:VEVENT
BEGIN:VEVENT
DTSTART;TZID=Europe/Brussels:20251124T190000
DTEND;TZID=Europe/Brussels:20251124T210000
DTSTAMP:20260420T031837
CREATED:20251002T104937Z
LAST-MODIFIED:20251002T104937Z
UID:2035-1764010800-1764018000@www.hhg.be
SUMMARY:Workshop Gezonde Voeding – maak van jouw bord een bron van energie!
DESCRIPTION:Wil jij meer inzicht krijgen in hoe je gezond en bewust kan eten zonder jouw levensstijl drastisch om te gooien? Kom dan naar onze interactieve workshop Gezonde Voeding! \nTijdens deze sessie leer je:\nHet verschil tussen bewerkte en onbewerkte voeding\nWat koolhydraten precies zijn en welke je beter kiest\nWaarom vetten niet je vijand zijn\, maar je vriend\nDe rol van eiwitten in een gezond lichaam\nHoe je een gezond bord samenstelt met eenvoudige en praktische tips \nNa de workshop ga je naar huis met concrete handvaten en inspiratie om meteen toe te passen in jouw dagelijks leven. \nPrijs: 15 euro per persoon -gratis voor medewerkers
URL:http://www.hhg.be/health-hub-grimbergen-event/workshop-gezonde-voeding-maak-van-jouw-bord-een-bron-van-energie/
LOCATION:Health Hub Grimbergen\, Veldkantstraat 30\, Grimbergen\, Vlaams-Brabant\, 1850\, Belgium
END:VEVENT
BEGIN:VEVENT
DTSTART;TZID=Europe/Brussels:20251118T190000
DTEND;TZID=Europe/Brussels:20251118T200000
DTSTAMP:20260420T031837
CREATED:20251016T132810Z
LAST-MODIFIED:20251021T093628Z
UID:2067-1763492400-1763496000@www.hhg.be
SUMMARY:Lezing Cognitieve Fitness
DESCRIPTION:Goedele Janssens is kinesitherapeut\, psychomotorisch therapeut en trainer-coach bij Avalanche Training en Coaching. \nHaar passie ligt in het begeleiden van mensen naar een kwaliteitsvolle en gezonde levensstijl. \nIn haar BodyBrainBalance aanbod werkt Goedele met de Cognitieve Fitnessmethode waarbij een FIT BREIN in een GEZOND LICHAAM centraal staat. \nZe is de allereerste cognitieve fitnesstrainer in België en is gespecialiseerd in het fit houden van onze hersenen en het trainen van cognitieve vaardigheden zoals o.a. geheugen en coördinatie. \nGoedele zet mensen letterlijk en figuurlijk in beweging\, op weg naar een actief en gezond leven! \n 
URL:http://www.hhg.be/health-hub-grimbergen-event/lezing-cognitieve-fitness-2/
LOCATION:Health Hub Grimbergen\, Veldkantstraat 30\, Grimbergen\, Vlaams-Brabant\, 1850\, Belgium
END:VEVENT
BEGIN:VEVENT
DTSTART;TZID=Europe/Brussels:20251106T200000
DTEND;TZID=Europe/Brussels:20251106T220000
DTSTAMP:20260420T031837
CREATED:20250729T091512Z
LAST-MODIFIED:20250908T084939Z
UID:1903-1762459200-1762466400@www.hhg.be
SUMMARY:Hartcoherentie
DESCRIPTION:Meer info en inschrijving kan via: \nhttps://www.cm.be/nl/toepassingen/cm-gezondheidsacademie#/activity/18963/detail
URL:http://www.hhg.be/health-arena-event/hartcoherentie/
LOCATION:Health Hub Grimbergen\, Veldkantstraat 30\, Grimbergen\, Vlaams-Brabant\, 1850\, Belgium
END:VEVENT
BEGIN:VEVENT
DTSTART;TZID=Europe/Brussels:20251029T133000
DTEND;TZID=Europe/Brussels:20251029T143000
DTSTAMP:20260420T031837
CREATED:20250904T124120Z
LAST-MODIFIED:20250908T114819Z
UID:1988-1761744600-1761748200@www.hhg.be
SUMMARY:Menopauze
DESCRIPTION:De menopauze\, vroeg of laat krijgt iedere vrouw ermee te maken. Sommigen ondervinden weinig tot geen klachten\, anderen wel. \nIn deze lezing wordt er uitleg gegeven over het verloop van deze nieuwe levensfase: welke kwaaltjes of klachten kunnen er opduiken\, wat zijn mogelijke oplossingen en wat kan je zelf doen om je levensstijl aan te passen. \nElke vrouw die wil voorbereid zijn op deze hormonale verandering en deze nieuwe fase in het leven\, zal na de lezing meteen aan de slag kunnen met een aantal tips. Ook mannen zijn welkom om een inzicht te krijgen. \nAlvast een belangrijke eerste tip: luister naar het fluisteren van je lichaam zodat het niet hoeft te schreeuwen.
URL:http://www.hhg.be/health-hub-grimbergen-event/menopauze2/
LOCATION:Health Hub Grimbergen\, Veldkantstraat 30\, Grimbergen\, Vlaams-Brabant\, 1850\, Belgium
END:VEVENT
BEGIN:VEVENT
DTSTART;TZID=Europe/Brussels:20251027T190000
DTEND;TZID=Europe/Brussels:20251027T220000
DTSTAMP:20260420T031837
CREATED:20250904T123532Z
LAST-MODIFIED:20250908T085006Z
UID:1984-1761591600-1761602400@www.hhg.be
SUMMARY:Menopauze
DESCRIPTION:De menopauze\, vroeg of laat krijgt iedere vrouw ermee te maken. Sommigen ondervinden weinig tot geen klachten\, anderen wel. \nIn deze lezing wordt er uitleg gegeven over het verloop van deze nieuwe levensfase: welke kwaaltjes of klachten kunnen er opduiken\, wat zijn mogelijke oplossingen en wat kan je zelf doen om je levensstijl aan te passen. \nElke vrouw die wil voorbereid zijn op deze hormonale verandering en deze nieuwe fase in het leven\, zal na de lezing meteen aan de slag kunnen met een aantal tips. Ook mannen zijn welkom om een inzicht te krijgen. \nAlvast een belangrijke eerste tip: luister naar het fluisteren van je lichaam zodat het niet hoeft te schreeuwen.
URL:http://www.hhg.be/health-hub-grimbergen-event/menopauze/
LOCATION:Health Hub Grimbergen\, Veldkantstraat 30\, Grimbergen\, Vlaams-Brabant\, 1850\, Belgium
END:VEVENT
BEGIN:VEVENT
DTSTART;TZID=Europe/Brussels:20251023T200000
DTEND;TZID=Europe/Brussels:20251023T220000
DTSTAMP:20260420T031837
CREATED:20250729T091454Z
LAST-MODIFIED:20250908T085017Z
UID:1904-1761249600-1761256800@www.hhg.be
SUMMARY:Hartcoherentie
DESCRIPTION:Meer info en inschrijving kan via: \nhttps://www.cm.be/nl/toepassingen/cm-gezondheidsacademie#/activity/18963/detail
URL:http://www.hhg.be/health-arena-event/hartcoherentie/
LOCATION:Health Hub Grimbergen\, Veldkantstraat 30\, Grimbergen\, Vlaams-Brabant\, 1850\, Belgium
END:VEVENT
BEGIN:VEVENT
DTSTART;TZID=Europe/Brussels:20251015T190000
DTEND;TZID=Europe/Brussels:20251015T220000
DTSTAMP:20260420T031837
CREATED:20250822T070608Z
LAST-MODIFIED:20250908T085049Z
UID:1955-1760554800-1760565600@www.hhg.be
SUMMARY:Lezing: “De stille kracht van slaap – sleutel tot veerkracht en vitaliteit”
DESCRIPTION:Een evidence-based lezing over slaap en slaaphygiëne\, met veel praktische tips en ruimte voor vragen \nDonderdag 15 oktober om 19u in de Health Hub Grimbergen \nPrijs: 15€/persoon – medewerkers WZC Heilig Hart Grimbergen gratis \nAndreas Delaere is kinesitherapeut\, wetenschappelijk onderzoeker en medezaakvoerder van Praktijk ROBUUST in Merchtem. Hij combineert klinisch werk met onderzoek aan de VUB rond krachttraining\, spiergezondheid en sarcopenie bij ouderen. Daarnaast is hij opgeleid in Cognitive Behavioral Therapy for Insomnia (CBT-I) en geeft hij keynotes en opleidingen over gezond ouder worden\, krachttraining en slaap. Zijn passie ligt in het vertalen van wetenschappelijke inzichten naar concrete toepassingen voor professionals en het brede publiek. \n 
URL:http://www.hhg.be/health-hub-grimbergen-event/lezing-de-stille-kracht/
LOCATION:Health Hub Grimbergen\, Veldkantstraat 30\, Grimbergen\, Vlaams-Brabant\, 1850\, Belgium
ORGANIZER;CN="Heilig Hart Grimbergen":MAILTO:INFO@HHG.BE
END:VEVENT
BEGIN:VEVENT
DTSTART;TZID=Europe/Brussels:20251014T193000
DTEND;TZID=Europe/Brussels:20251014T213000
DTSTAMP:20260420T031837
CREATED:20250729T091127Z
LAST-MODIFIED:20250908T085136Z
UID:1898-1760470200-1760477400@www.hhg.be
SUMMARY:Zorgvolmacht – maak het bespreekbaar
DESCRIPTION:Meer info en inschrijving kan via: \nhttp://www.cm.be/nl/toepassingen/cm-gezondheidsacademie#/activity/18958/detail \n 
URL:http://www.hhg.be/health-arena-event/zorgvolmacht-maak-het-bespreekbaar/
LOCATION:Health Hub Grimbergen\, Veldkantstraat 30\, Grimbergen\, Vlaams-Brabant\, 1850\, Belgium
END:VEVENT
BEGIN:VEVENT
DTSTART;TZID=Europe/Brussels:20251009T200000
DTEND;TZID=Europe/Brussels:20251009T220000
DTSTAMP:20260420T031837
CREATED:20250729T091436Z
LAST-MODIFIED:20250908T085131Z
UID:1905-1760040000-1760047200@www.hhg.be
SUMMARY:Hartcoherentie
DESCRIPTION:Meer info en inschrijving kan via: \nhttps://www.cm.be/nl/toepassingen/cm-gezondheidsacademie#/activity/18963/detail
URL:http://www.hhg.be/health-arena-event/hartcoherentie/
LOCATION:Health Hub Grimbergen\, Veldkantstraat 30\, Grimbergen\, Vlaams-Brabant\, 1850\, Belgium
END:VEVENT
BEGIN:VEVENT
DTSTART;TZID=Europe/Brussels:20250930T190000
DTEND;TZID=Europe/Brussels:20250930T200000
DTSTAMP:20260420T031837
CREATED:20250904T125014Z
LAST-MODIFIED:20250908T085127Z
UID:1996-1759258800-1759262400@www.hhg.be
SUMMARY:Lezing Palliatieve
DESCRIPTION:
URL:http://www.hhg.be/health-hub-grimbergen-event/lezing-palliatieve2/
LOCATION:Health Hub Grimbergen\, Veldkantstraat 30\, Grimbergen\, Vlaams-Brabant\, 1850\, Belgium
ORGANIZER;CN="Heilig Hart Grimbergen":MAILTO:INFO@HHG.BE
END:VEVENT
BEGIN:VEVENT
DTSTART;TZID=Europe/Brussels:20250930T133000
DTEND;TZID=Europe/Brussels:20250930T143000
DTSTAMP:20260420T031837
CREATED:20250904T124619Z
LAST-MODIFIED:20250908T084752Z
UID:1991-1759239000-1759242600@www.hhg.be
SUMMARY:Lezing Palliatieve
DESCRIPTION:
URL:http://www.hhg.be/health-hub-grimbergen-event/lezing-palliatieve/
LOCATION:Health Hub Grimbergen\, Veldkantstraat 30\, Grimbergen\, Vlaams-Brabant\, 1850\, Belgium
ORGANIZER;CN="Heilig Hart Grimbergen":MAILTO:INFO@HHG.BE
END:VEVENT
BEGIN:VEVENT
DTSTART;TZID=Europe/Brussels:20250925T200000
DTEND;TZID=Europe/Brussels:20250925T220000
DTSTAMP:20260420T031837
CREATED:20250729T091346Z
LAST-MODIFIED:20250908T085111Z
UID:1900-1758830400-1758837600@www.hhg.be
SUMMARY:Hartcoherentie
DESCRIPTION:Meer info en inschrijving kan via: \nhttps://www.cm.be/nl/toepassingen/cm-gezondheidsacademie#/activity/18963/detail
URL:http://www.hhg.be/health-arena-event/hartcoherentie2/
LOCATION:Health Hub Grimbergen\, Veldkantstraat 30\, Grimbergen\, Vlaams-Brabant\, 1850\, Belgium
END:VEVENT
END:VCALENDAR