BEGIN:VCALENDAR
VERSION:2.0
PRODID:-//Heilig Hart Grimbergen vzw - ECPv6.14.2//NONSGML v1.0//EN
CALSCALE:GREGORIAN
METHOD:PUBLISH
X-WR-CALNAME:Heilig Hart Grimbergen vzw
X-ORIGINAL-URL:https://www.hhg.be
X-WR-CALDESC:Events voor Heilig Hart Grimbergen vzw
REFRESH-INTERVAL;VALUE=DURATION:PT1H
X-Robots-Tag:noindex
X-PUBLISHED-TTL:PT1H
BEGIN:VTIMEZONE
TZID:Europe/Brussels
BEGIN:DAYLIGHT
TZOFFSETFROM:+0100
TZOFFSETTO:+0200
TZNAME:CEST
DTSTART:20250330T010000
END:DAYLIGHT
BEGIN:STANDARD
TZOFFSETFROM:+0200
TZOFFSETTO:+0100
TZNAME:CET
DTSTART:20251026T010000
END:STANDARD
END:VTIMEZONE
BEGIN:VEVENT
DTSTART;TZID=Europe/Brussels:20251014T193000
DTEND;TZID=Europe/Brussels:20251014T213000
DTSTAMP:20260419T224819
CREATED:20250729T091127Z
LAST-MODIFIED:20250908T085136Z
UID:1898-1760470200-1760477400@www.hhg.be
SUMMARY:Zorgvolmacht – maak het bespreekbaar
DESCRIPTION:Meer info en inschrijving kan via: \nhttp://www.cm.be/nl/toepassingen/cm-gezondheidsacademie#/activity/18958/detail \n 
URL:http://www.hhg.be/health-arena-event/zorgvolmacht-maak-het-bespreekbaar/
LOCATION:Health Hub Grimbergen\, Veldkantstraat 30\, Grimbergen\, Vlaams-Brabant\, 1850\, Belgium
END:VEVENT
BEGIN:VEVENT
DTSTART;TZID=Europe/Brussels:20251009T200000
DTEND;TZID=Europe/Brussels:20251009T220000
DTSTAMP:20260419T224819
CREATED:20250729T091436Z
LAST-MODIFIED:20250908T085131Z
UID:1905-1760040000-1760047200@www.hhg.be
SUMMARY:Hartcoherentie
DESCRIPTION:Meer info en inschrijving kan via: \nhttps://www.cm.be/nl/toepassingen/cm-gezondheidsacademie#/activity/18963/detail
URL:http://www.hhg.be/health-arena-event/hartcoherentie/
LOCATION:Health Hub Grimbergen\, Veldkantstraat 30\, Grimbergen\, Vlaams-Brabant\, 1850\, Belgium
END:VEVENT
BEGIN:VEVENT
DTSTART;TZID=Europe/Brussels:20250930T190000
DTEND;TZID=Europe/Brussels:20250930T200000
DTSTAMP:20260419T224819
CREATED:20250904T125014Z
LAST-MODIFIED:20250908T085127Z
UID:1996-1759258800-1759262400@www.hhg.be
SUMMARY:Lezing Palliatieve
DESCRIPTION:
URL:http://www.hhg.be/health-hub-grimbergen-event/lezing-palliatieve2/
LOCATION:Health Hub Grimbergen\, Veldkantstraat 30\, Grimbergen\, Vlaams-Brabant\, 1850\, Belgium
ORGANIZER;CN="Heilig Hart Grimbergen":MAILTO:INFO@HHG.BE
END:VEVENT
BEGIN:VEVENT
DTSTART;TZID=Europe/Brussels:20250930T133000
DTEND;TZID=Europe/Brussels:20250930T143000
DTSTAMP:20260419T224819
CREATED:20250904T124619Z
LAST-MODIFIED:20250908T084752Z
UID:1991-1759239000-1759242600@www.hhg.be
SUMMARY:Lezing Palliatieve
DESCRIPTION:
URL:http://www.hhg.be/health-hub-grimbergen-event/lezing-palliatieve/
LOCATION:Health Hub Grimbergen\, Veldkantstraat 30\, Grimbergen\, Vlaams-Brabant\, 1850\, Belgium
ORGANIZER;CN="Heilig Hart Grimbergen":MAILTO:INFO@HHG.BE
END:VEVENT
BEGIN:VEVENT
DTSTART;TZID=Europe/Brussels:20250925T200000
DTEND;TZID=Europe/Brussels:20250925T220000
DTSTAMP:20260419T224819
CREATED:20250729T091346Z
LAST-MODIFIED:20250908T085111Z
UID:1900-1758830400-1758837600@www.hhg.be
SUMMARY:Hartcoherentie
DESCRIPTION:Meer info en inschrijving kan via: \nhttps://www.cm.be/nl/toepassingen/cm-gezondheidsacademie#/activity/18963/detail
URL:http://www.hhg.be/health-arena-event/hartcoherentie2/
LOCATION:Health Hub Grimbergen\, Veldkantstraat 30\, Grimbergen\, Vlaams-Brabant\, 1850\, Belgium
END:VEVENT
END:VCALENDAR