BEGIN:VCALENDAR
VERSION:2.0
PRODID:-//Heilig Hart Grimbergen vzw - ECPv6.14.2//NONSGML v1.0//EN
CALSCALE:GREGORIAN
METHOD:PUBLISH
X-ORIGINAL-URL:https://www.hhg.be
X-WR-CALDESC:Events voor Heilig Hart Grimbergen vzw
REFRESH-INTERVAL;VALUE=DURATION:PT1H
X-Robots-Tag:noindex
X-PUBLISHED-TTL:PT1H
BEGIN:VTIMEZONE
TZID:Europe/Brussels
BEGIN:DAYLIGHT
TZOFFSETFROM:+0100
TZOFFSETTO:+0200
TZNAME:CEST
DTSTART:20260329T010000
END:DAYLIGHT
BEGIN:STANDARD
TZOFFSETFROM:+0200
TZOFFSETTO:+0100
TZNAME:CET
DTSTART:20261025T010000
END:STANDARD
END:VTIMEZONE
BEGIN:VEVENT
DTSTART;TZID=Europe/Brussels:20260624T190000
DTEND;TZID=Europe/Brussels:20260624T210000
DTSTAMP:20260419T174821
CREATED:20260401T115815Z
LAST-MODIFIED:20260401T120148Z
UID:2210-1782327600-1782334800@www.hhg.be
SUMMARY:Blijf niet met je rug en nek zitten
DESCRIPTION:Blijf niet met je nek en rug zitten \nHeb je regelmatig last van je nek of rug? Je bent niet alleen. Tijdens deze interactieve workshop krijg je heldere uitleg én praktische tips waar je meteen mee aan de slag kan. \nJe ontdekt wat er in je lichaam gebeurt. Je leert hoe klachten ontstaan. En vooral: wat jij zelf kan doen om ze te voorkomen. \n Woensdag 24 juni 2026\n19 tot 21 uur\nHealth Hub Grimbergen \n 5 euro per persoon\nGratis voor medewerkers van WZC Heilig Hart Grimbergen \n In samenwerking met CM Gezonde Buurt. De Health Hub zorgt voor de accommodatie. \n Schrijf je in via www.hhg.be \n Zorg goed voor je lichaam. Het draagt je elke dag. \n#healthhubgrimbergen #gezondebuurt #rugklachten #nekklachten #preventie #gezondheid #bewegen #welzijn #grimbergen #samensterk \n 
URL:http://www.hhg.be/health-hub-grimbergen-event/blijf-niet-met-je-rug-en-nek-zitten/
LOCATION:Health Hub Grimbergen\, Veldkantstraat 30\, Grimbergen\, Vlaams-Brabant\, 1850\, Belgium
ORGANIZER;CN="Heilig Hart Grimbergen":MAILTO:INFO@HHG.BE
END:VEVENT
END:VCALENDAR